BEGIN:VCALENDAR
VERSION:2.0
PRODID:-//Wool Days Thy - ECPv6.15.20//NONSGML v1.0//EN
CALSCALE:GREGORIAN
METHOD:PUBLISH
X-WR-CALNAME:Wool Days Thy
X-ORIGINAL-URL:https://wooldays.dk
X-WR-CALDESC:Begivenheder for Wool Days Thy
REFRESH-INTERVAL;VALUE=DURATION:PT1H
X-Robots-Tag:noindex
X-PUBLISHED-TTL:PT1H
BEGIN:VTIMEZONE
TZID:Europe/Copenhagen
BEGIN:DAYLIGHT
TZOFFSETFROM:+0100
TZOFFSETTO:+0200
TZNAME:CEST
DTSTART:20240331T010000
END:DAYLIGHT
BEGIN:STANDARD
TZOFFSETFROM:+0200
TZOFFSETTO:+0100
TZNAME:CET
DTSTART:20241027T010000
END:STANDARD
BEGIN:DAYLIGHT
TZOFFSETFROM:+0100
TZOFFSETTO:+0200
TZNAME:CEST
DTSTART:20250330T010000
END:DAYLIGHT
BEGIN:STANDARD
TZOFFSETFROM:+0200
TZOFFSETTO:+0100
TZNAME:CET
DTSTART:20251026T010000
END:STANDARD
BEGIN:DAYLIGHT
TZOFFSETFROM:+0100
TZOFFSETTO:+0200
TZNAME:CEST
DTSTART:20260329T010000
END:DAYLIGHT
BEGIN:STANDARD
TZOFFSETFROM:+0200
TZOFFSETTO:+0100
TZNAME:CET
DTSTART:20261025T010000
END:STANDARD
END:VTIMEZONE
BEGIN:VEVENT
DTSTART;TZID=Europe/Copenhagen:20250921T090000
DTEND;TZID=Europe/Copenhagen:20250921T120000
DTSTAMP:20260421T114202
CREATED:20250222T153349Z
LAST-MODIFIED:20250222T153349Z
UID:10000130-1758445200-1758456000@wooldays.dk
SUMMARY:WORKSHOP: STING PÅ SKJORTEN VED EVA CECILIE SKAK LASSEN
DESCRIPTION:Giv din skjorte nyt liv og et helt personligt præg med farverigt broderi! \nPå denne workshop lærer du at brodere med kædesting – en nem og dekorativ teknik\, der kan forvandle din skjorte til et unikt stykke tøj eller et lille kunstværk. Uanset om du vil pynte skjorten med smukke broderitegninger\, farverige detaljer eller bruge broderiet til at dække over små pletter og huller\, får du inspiration og vejledning til at skabe små farverige broderier i kædesting. \nTag din yndlingsskjorte med og lad kreativiteten forme sig med nål og tråd. \nWorkshoppen er for alle. \nDu skal medbringe:\n– broderigarn (anbefaler amagergarn – DMC)\n– broderinåle (gerne str 10 embroidery John James)\n– saks\n– mindre stykke broderistof eller stof i bomuld til at øve kædesting på\n– tekstilpen\n– eventuelt tyndt vlieseline\n– eventuelt broderiring\n– skjorte eller bluse i ren bomuld\, som du vil sy i. \nEr der noget man skal/kan købe på kurset:\nPå kurset kan man tilkøbe ‘frit lån’ af følgende materialer for 100 DKK:\n– broderinåle\n– saks\n– mindre stykke broderistof eller stof i bomuld til at øve kædesting på\n– tekstilpen\n– tyndt vlieseline\n– broderiring \nDu kan endvidere købe:\nDet er også muligt at købe små broderipakker med blandede farver tråde à 50 DKK. \nKaffe/the samt en lille snack er inkluderet i prisen. \nSprog: Dansk \nUnderviser: Eva Cecilie Skak Lassen\nEva Cecilie er kunsthåndværker med broderi samt skolelærer i Silkeborg Kommune. Hendes lille broderivirksomhed hedder EvaC-art. Korssting\, fladsting\, knudesting og frie sting er hendes passion. Stingene sætter hun i historiske gamle udklip fra bøger og blade fra 30’erne\, 40’erne og 50’erne. Det tager tid at brodere – og hun elsker denne langsomhed. \nInstagram: @evac.art\nFacebook: evacecilieskak\nWeb: evac-art.dk
URL:https://wooldays.dk/begivenhed/workshop-sting-paa-skjorten-ved-eva-cecilie-skak-lassen/
LOCATION:Hurup Skole\, Idrætsvej 11\, Hurup\, 7760
CATEGORIES:Billet,Workshop
ATTACH;FMTTYPE=image/jpeg:https://wooldays.dk/wp-content/uploads/2025/02/Eva-Cecilie-broderi-paa-toej-scaled.jpg
END:VEVENT
BEGIN:VEVENT
DTSTART;TZID=Europe/Copenhagen:20250919T140000
DTEND;TZID=Europe/Copenhagen:20250919T170000
DTSTAMP:20260421T114202
CREATED:20250222T154049Z
LAST-MODIFIED:20250905T142759Z
UID:10000108-1758290400-1758301200@wooldays.dk
SUMMARY:WORKSHOP: OVERFLADER OG FARVELEG VED HELGA JÓNA
DESCRIPTION:På denne workshop vil vi arbejde med spændende overflader – både flade og levende\, se på detaljerne og lege med farver og materialer. \nDer bliver selvfølgelig arbejdet med nogle gode strikketeknikker undervejs… og forhåbentlig bliver vi inspireret til nye strikkeprojekter eller nye farvesammensætninger. \nHvad skal man medbringe:\nUldgarn og Silkmohair i forskellige farver – gerne jeres rester.\nStrikkepinde nr. 3\,5 – 4 (eller som passer til jeres garn).\nMaskewire\, nål og sakse \nKaffe/the samt en lille snack er inkluderet i prisen. \nSprog: Dansk \nUnderviser: Helga Jóna\nHelga Jóna Thórunnardóttir er en passioneret strikker\, der elsker at dykke ned i detaljerne for at opnå endnu smukkere finish i sit strikketøj.\nHun er fast underviser på Skals Højskole for design- og håndarbejde\, og arbejder tæt sammen med Isager\, hvor hun holder mange workshops.\nHelga Jóna har også været med til at skabe mange spændende ISAGER kollektioner og har skrevet bogen HANDCRAFT sammen med Helga Isager.\nHun brænder for gode strikketeknikker og elsker at dele ud af sin viden og erfaring. Udover at undervise og holde foredrag flere steder i Danmark\, rejser hun også rundt og holder workshops i Island\, Marokko\, Norge og senest i Japan.\nHelga Jóna kommer fra Island og er opvokset der\, hun er tidligere ejer af en håndarbejdsforretning i Reykjavík og har over 20 års erfaring som underviser i strik og broderi. Hun designer sine egne strikkeprojekter\, som kan findes på hendes hjemmeside\, www.strikketoj.com. \nInstagram: @helgajona\nFacebook: Strikketoj.com\nWeb: www.strikketoj.com.
URL:https://wooldays.dk/begivenhed/workshop-overflader-og-farveleg-ved-helga-jona/
LOCATION:Hurup Skole\, Idrætsvej 11\, Hurup\, 7760
CATEGORIES:Billet,Workshop
ATTACH;FMTTYPE=image/jpeg:https://wooldays.dk/wp-content/uploads/2025/02/Helga-Jona_overflader-og-farveleg-scaled.jpg
END:VEVENT
BEGIN:VEVENT
DTSTART;TZID=Europe/Copenhagen:20250919T090000
DTEND;TZID=Europe/Copenhagen:20250919T120000
DTSTAMP:20260421T114202
CREATED:20250222T154537Z
LAST-MODIFIED:20250905T142719Z
UID:10000101-1758272400-1758283200@wooldays.dk
SUMMARY:WORKSHOP: GODE STRIKKETEKNIKKER\, DU IKKE KAN UNDVÆRE VED HELGA JÓNA
DESCRIPTION:Glæd dig til denne workshop hvor Helga Jóna\, en sand mester\, deler ud af sin enorme viden indenfor strik\, og hvor du vil lære nogle gode teknikker\, du ikke kan undvære! \nVi vil arbejde med teknikker som sætter “prikken over i’et”. Det kan være nogle gode opslagninger\, aflukninger\, smukke kanter og de allerfineste knaphuller. \nDu skal medbringe:\nUldgarn og strikkepinde som passer til (gerne til den lyse side og lidt groft).\nMaskewire\, nål og sakse. \nKaffe/the samt en lille snack er inkluderet i prisen. \nSprog: Dansk \nUnderviser: Helga Jóna\nHelga Jóna Thórunnardóttir er en passioneret strikker\, der elsker at dykke ned i detaljerne for at opnå endnu smukkere finish i sit strikketøj.\nHun er fast underviser på Skals Højskole for design- og håndarbejde\, og arbejder tæt sammen med Isager\, hvor hun holder mange workshops.\nHelga Jóna har også været med til at skabe mange spændende ISAGER kollektioner og har skrevet bogen HANDCRAFT sammen med Helga Isager.\nHun brænder for gode strikketeknikker og elsker at dele ud af sin viden og erfaring. Udover at undervise og holde foredrag flere steder i Danmark\, rejser hun også rundt og holder workshops i Island\, Marokko\, Norge og senest i Japan.\nHelga Jóna kommer fra Island og er opvokset der\, hun er tidligere ejer af en håndarbejdsforretning i Reykjavík og har over 20 års erfaring som underviser i strik og broderi. Hun designer sine egne strikkeprojekter\, som kan findes på hendes hjemmeside\, www.strikketoj.com. \nInstagram: @helgajona\nFacebook: Strikketoj.com\nWeb: www.strikketoj.com.
URL:https://wooldays.dk/begivenhed/workshop-gode-strikketeknikker-du-ikke-kan-undvaere-ved-helga-jona/
LOCATION:Hurup Skole\, Idrætsvej 11\, Hurup\, 7760
CATEGORIES:Billet,Workshop
ATTACH;FMTTYPE=image/jpeg:https://wooldays.dk/wp-content/uploads/2025/02/Helga-Jona_strikketeknikker-scaled.jpg
END:VEVENT
END:VCALENDAR